BEGIN:VCALENDAR
VERSION:2.0
PRODID:-//Lolo&#039;s Boyfriend Show - ECPv6.6.0.2//NONSGML v1.0//EN
CALSCALE:GREGORIAN
METHOD:PUBLISH
X-ORIGINAL-URL:https://lolosboyfriendshow.com
X-WR-CALDESC:Events for Lolo&#039;s Boyfriend Show
REFRESH-INTERVAL;VALUE=DURATION:PT1H
X-Robots-Tag:noindex
X-PUBLISHED-TTL:PT1H
BEGIN:VTIMEZONE
TZID:UTC
BEGIN:STANDARD
TZOFFSETFROM:+0000
TZOFFSETTO:+0000
TZNAME:UTC
DTSTART:20250101T000000
END:STANDARD
END:VTIMEZONE
BEGIN:VEVENT
DTSTART;TZID=UTC:20250112T150000
DTEND;TZID=UTC:20250112T160000
DTSTAMP:20260420T093207
CREATED:20241219T221335Z
LAST-MODIFIED:20241219T221335Z
UID:268-1736694000-1736697600@lolosboyfriendshow.com
SUMMARY:Lolo’s Boyfriend Show APAP Showcase!
DESCRIPTION:IN THE BEEKMAN PARLOR SHOWCASE ROOM\n2ND FLOOR OF THE NEW YORK HILTON MIDTOWN
URL:https://lolosboyfriendshow.com/event/lolos-boyfriend-show-apap-showcase-4/
LOCATION:NY
END:VEVENT
END:VCALENDAR