BEGIN:VCALENDAR
VERSION:2.0
PRODID:-//Lolo&#039;s Boyfriend Show - ECPv6.6.0.2//NONSGML v1.0//EN
CALSCALE:GREGORIAN
METHOD:PUBLISH
X-ORIGINAL-URL:https://lolosboyfriendshow.com
X-WR-CALDESC:Events for Lolo&#039;s Boyfriend Show
REFRESH-INTERVAL;VALUE=DURATION:PT1H
X-Robots-Tag:noindex
X-PUBLISHED-TTL:PT1H
BEGIN:VTIMEZONE
TZID:UTC
BEGIN:STANDARD
TZOFFSETFROM:+0000
TZOFFSETTO:+0000
TZNAME:UTC
DTSTART:20260101T000000
END:STANDARD
END:VTIMEZONE
BEGIN:VEVENT
DTSTART;VALUE=DATE:20260111
DTEND;VALUE=DATE:20260112
DTSTAMP:20260419T173448
CREATED:20251231T200813Z
LAST-MODIFIED:20251231T200852Z
UID:394-1768089600-1768175999@lolosboyfriendshow.com
SUMMARY:Lolo’s Boyfriend Show APAP Showcase!
DESCRIPTION:IN THE BEEKMAN PARLOR SHOWCASE ROOM\n2ND FLOOR OF THE NEW YORK HILTON MIDTOWN\n1335 AVENUE OF THE AMERICAS \nShowcase Times: \n3:30pm\n7pm \n*All Showcases are 15 minutes \n 
URL:https://lolosboyfriendshow.com/event/lolos-boyfriend-show-apap-showcase-3/
LOCATION:BEEKMAN PARLOR SHOWCASE ROOM\, 1335 6th Avenue\, New York\, NY\, 10019\, United States
END:VEVENT
END:VCALENDAR