BEGIN:VCALENDAR
VERSION:2.0
PRODID:-//Lolo&#039;s Boyfriend Show - ECPv6.6.0.2//NONSGML v1.0//EN
CALSCALE:GREGORIAN
METHOD:PUBLISH
X-ORIGINAL-URL:https://lolosboyfriendshow.com
X-WR-CALDESC:Events for Lolo&#039;s Boyfriend Show
REFRESH-INTERVAL;VALUE=DURATION:PT1H
X-Robots-Tag:noindex
X-PUBLISHED-TTL:PT1H
BEGIN:VTIMEZONE
TZID:UTC
BEGIN:STANDARD
TZOFFSETFROM:+0000
TZOFFSETTO:+0000
TZNAME:UTC
DTSTART:20270101T000000
END:STANDARD
END:VTIMEZONE
BEGIN:VEVENT
DTSTART;TZID=UTC:20270302T080000
DTEND;TZID=UTC:20270414T170000
DTSTAMP:20260419T184019
CREATED:20260402T195504Z
LAST-MODIFIED:20260402T195511Z
UID:400-1803974400-1807722000@lolosboyfriendshow.com
SUMMARY:The Wild Project (Off-Broadway) 2027
DESCRIPTION:We’re bringing Lolo’s Boyfriend Show to the Wild Project (Off-Broadway) vMarch 2nd to Aril 14th in 2027! \nStay tuned for ticket announcements!
URL:https://lolosboyfriendshow.com/event/the-wild-project-off-broadway/
LOCATION:NY
END:VEVENT
END:VCALENDAR